BEGIN:VCALENDAR
VERSION:2.0
PRODID:-//Virginia Pond - ECPv6.15.20//NONSGML v1.0//EN
CALSCALE:GREGORIAN
METHOD:PUBLISH
X-WR-CALNAME:Virginia Pond
X-ORIGINAL-URL:https://vapond.org
X-WR-CALDESC:Events for Virginia Pond
REFRESH-INTERVAL;VALUE=DURATION:PT1H
X-Robots-Tag:noindex
X-PUBLISHED-TTL:PT1H
BEGIN:VTIMEZONE
TZID:America/New_York
BEGIN:DAYLIGHT
TZOFFSETFROM:-0500
TZOFFSETTO:-0400
TZNAME:EDT
DTSTART:20210314T070000
END:DAYLIGHT
BEGIN:STANDARD
TZOFFSETFROM:-0400
TZOFFSETTO:-0500
TZNAME:EST
DTSTART:20211107T060000
END:STANDARD
BEGIN:DAYLIGHT
TZOFFSETFROM:-0500
TZOFFSETTO:-0400
TZNAME:EDT
DTSTART:20220313T070000
END:DAYLIGHT
BEGIN:STANDARD
TZOFFSETFROM:-0400
TZOFFSETTO:-0500
TZNAME:EST
DTSTART:20221106T060000
END:STANDARD
BEGIN:DAYLIGHT
TZOFFSETFROM:-0500
TZOFFSETTO:-0400
TZNAME:EDT
DTSTART:20230312T070000
END:DAYLIGHT
BEGIN:STANDARD
TZOFFSETFROM:-0400
TZOFFSETTO:-0500
TZNAME:EST
DTSTART:20231105T060000
END:STANDARD
END:VTIMEZONE
BEGIN:VEVENT
DTSTART;TZID=America/New_York:20220921T173000
DTEND;TZID=America/New_York:20220921T200000
DTSTAMP:20260421T215203
CREATED:20220817T091547Z
LAST-MODIFIED:20220818T104556Z
UID:3671-1663781400-1663790400@vapond.org
SUMMARY:Virginia Pond Meeting
DESCRIPTION:The Virginia Pond will be holding its regular monthly meeting in-person on Wednesday\, September 21\, at Nick’s Roman Terrace in the Westland Shopping Center on West Broad Street in Richmond. \nSocial hour starts at 5:30\, followed by a dinner meeting.  The cost is $27 when paid by the RSVP deadline\, or $30 at the door.  Reservations are due by September 19.
URL:https://vapond.org/event/meeting-202207-2/
LOCATION:Nick’s Roman Terrace\, 8051 West Broad Street\, Richmond\, VA\, 23294\, United States
CATEGORIES:Monthly Meeting
ORGANIZER;CN="Barbara Curtis":MAILTO:bacurtis55@gmail.com
END:VEVENT
END:VCALENDAR